BEGIN:VCALENDAR
VERSION:2.0
PRODID:spatie/icalendar-generator
DESCRIPTION:Veranstaltungen von Eintopftreter.Berlin
X-WR-CALDESC:Veranstaltungen von Eintopftreter.Berlin
REFRESH-INTERVAL;VALUE=DURATION:PT1440M
X-PUBLISHED-TTL:PT1440M
BEGIN:VTIMEZONE
TZID:Europe/Berlin
BEGIN:STANDARD
DTSTART:20231029T030000Z
TZOFFSETFROM:+0200
TZOFFSETTO:+0100
END:STANDARD
BEGIN:DAYLIGHT
DTSTART:20240331T020000Z
TZOFFSETFROM:+0100
TZOFFSETTO:+0200
END:DAYLIGHT
BEGIN:STANDARD
DTSTART:20241027T030000Z
TZOFFSETFROM:+0200
TZOFFSETTO:+0100
END:STANDARD
END:VTIMEZONE
BEGIN:VTIMEZONE
TZID:UTC
BEGIN:STANDARD
DTSTART:20250728T191537Z
TZOFFSETFROM:+0000
TZOFFSETTO:+0000
END:STANDARD
END:VTIMEZONE
BEGIN:VEVENT
UID:40-29
DTSTAMP:20260424T191537Z
SUMMARY:Stammtisch im Juni 2024
LOCATION:Naumanns Biergarten Wilhelm-Kabus-Straße 24 Haus 24 10829 Berlin
ORGANIZER;CN=Erich Buecker:MAILTO:erich@eintopftreter.berlin
DTSTART;TZID=Europe/Berlin:20240626T180000
DTEND;TZID=Europe/Berlin:20240626T230000
X-ALT-DESC;FMTTYPE=TEXT/HTML:Hallo liebe Eintopftreter*innen\, der nächste
  Stammtisch findet statt am Mittwoch\, 26.06.2024 ab 18:00 Uhr in Naumanns
  Biergarten Wilhelm-Kabus-Straße 36 / Haus 24 10829 Berlin Bis dahin eine
  schöne Zeit für euch. Liebe Grüße. Erich 😊🏍️🍀🌻 Hinweis:
  ihr könnt den Termin in euren Kalender übernehmen\, indem ihr auf den u
 ntenstehenden Link ical oder Google Kalender klickt.
CATEGORIES:Stammtisch
URL;VALUE=URI:https://eintopftreter.berlin/mc-events/stammtisch-im-juni-202
 4/
METHOD:PUBLISH
END:VEVENT
END:VCALENDAR