BEGIN:VCALENDAR
VERSION:2.0
PRODID:spatie/icalendar-generator
DESCRIPTION:Veranstaltungen von Eintopftreter.Berlin
X-WR-CALDESC:Veranstaltungen von Eintopftreter.Berlin
REFRESH-INTERVAL;VALUE=DURATION:PT1440M
X-PUBLISHED-TTL:PT1440M
BEGIN:VTIMEZONE
TZID:Europe/Berlin
BEGIN:STANDARD
DTSTART:20231029T030000Z
TZOFFSETFROM:+0200
TZOFFSETTO:+0100
END:STANDARD
BEGIN:DAYLIGHT
DTSTART:20240331T020000Z
TZOFFSETFROM:+0100
TZOFFSETTO:+0200
END:DAYLIGHT
BEGIN:STANDARD
DTSTART:20241027T030000Z
TZOFFSETFROM:+0200
TZOFFSETTO:+0100
END:STANDARD
END:VTIMEZONE
BEGIN:VTIMEZONE
TZID:UTC
BEGIN:STANDARD
DTSTART:20250728T130455Z
TZOFFSETFROM:+0000
TZOFFSETTO:+0000
END:STANDARD
END:VTIMEZONE
BEGIN:VEVENT
UID:38-2
DTSTAMP:20260424T130455Z
SUMMARY:Built not Bought 2024
LOCATION:Spreewaldring Waldhaus 2  15910 Schönwald OT Waldow
ORGANIZER;CN=admin:MAILTO:webmaster@eintopfreter.berlin
DTSTART;TZID=Europe/Berlin;VALUE=DATE:20240607
DTEND;TZID=Europe/Berlin;VALUE=DATE:20240610
X-ALT-DESC;FMTTYPE=TEXT/HTML:Das Motorrad-Festival in Brandenburg Das BnB -
 Team freut sich darauf\, gemeinsam mit Euch die 10. Auflage des Built not 
 Bought auf die Beine zu stellen. Rennsportfans und Motorrad-Liebhaber tref
 fen sich auch 2024 beim Racing-Festival des Jahres auf dem Spreewaldring. 
 Über 300 Fahrmaschinen sorgen für reichlich Action auf und neben der Ren
 nstrecke. Anmeldung über Race Cafe&amp;hellip\;
CATEGORIES:Veranstaltung
URL;VALUE=URI:https://eintopftreter.berlin/mc-events/built-not-bought-2024/
METHOD:PUBLISH
END:VEVENT
END:VCALENDAR