BEGIN:VCALENDAR
VERSION:2.0
PRODID:spatie/icalendar-generator
DESCRIPTION:Veranstaltungen von Eintopftreter.Berlin
X-WR-CALDESC:Veranstaltungen von Eintopftreter.Berlin
REFRESH-INTERVAL;VALUE=DURATION:PT1440M
X-PUBLISHED-TTL:PT1440M
BEGIN:VTIMEZONE
TZID:Europe/Berlin
BEGIN:DAYLIGHT
DTSTART:20240331T020000Z
TZOFFSETFROM:+0100
TZOFFSETTO:+0200
END:DAYLIGHT
BEGIN:STANDARD
DTSTART:20241027T030000Z
TZOFFSETFROM:+0200
TZOFFSETTO:+0100
END:STANDARD
END:VTIMEZONE
BEGIN:VTIMEZONE
TZID:UTC
BEGIN:STANDARD
DTSTART:20250728T141842Z
TZOFFSETFROM:+0000
TZOFFSETTO:+0000
END:STANDARD
END:VTIMEZONE
BEGIN:VEVENT
UID:32-25
DTSTAMP:20260424T141842Z
SUMMARY:25. Sommerfest der Eintopfreunde Südheide 2024
LOCATION:Sportplatz Schneflingen-Teschendorf   29378 Schneflingen-Teschendo
 rf
ORGANIZER;CN=admin:MAILTO:webmaster@eintopfreter.berlin
DTSTART;TZID=Europe/Berlin;VALUE=DATE:20240816
DTEND;TZID=Europe/Berlin;VALUE=DATE:20240819
X-ALT-DESC;FMTTYPE=TEXT/HTML:...haste mehrere Zylinder\, biste auch Willkom
 men!
CATEGORIES:Ausfahrten
URL;VALUE=URI:https://eintopftreter.berlin/mc-events/25-sommerfest-der-eint
 opfreunde-suedheide-2024/
METHOD:PUBLISH
END:VEVENT
END:VCALENDAR