BEGIN:VCALENDAR
VERSION:2.0
PRODID:spatie/icalendar-generator
DESCRIPTION:Veranstaltungen von Eintopftreter.Berlin
X-WR-CALDESC:Veranstaltungen von Eintopftreter.Berlin
REFRESH-INTERVAL;VALUE=DURATION:PT1440M
X-PUBLISHED-TTL:PT1440M
BEGIN:VTIMEZONE
TZID:Europe/Berlin
BEGIN:STANDARD
DTSTART:20231029T030000Z
TZOFFSETFROM:+0200
TZOFFSETTO:+0100
END:STANDARD
BEGIN:DAYLIGHT
DTSTART:20240331T020000Z
TZOFFSETFROM:+0100
TZOFFSETTO:+0200
END:DAYLIGHT
END:VTIMEZONE
BEGIN:VTIMEZONE
TZID:UTC
BEGIN:STANDARD
DTSTART:20250728T130351Z
TZOFFSETFROM:+0000
TZOFFSETTO:+0000
END:STANDARD
END:VTIMEZONE
BEGIN:VEVENT
UID:21-17
DTSTAMP:20260424T130351Z
SUMMARY:Stammtisch im April 2024
LOCATION:Restaurant Bella Italia Brunnenstraße 104  13355 Berlin
ORGANIZER;CN=Erich Buecker:MAILTO:erich@eintopftreter.berlin
DTSTART;TZID=Europe/Berlin:20240412T183000
DTEND;TZID=Europe/Berlin:20240412T235900
X-ALT-DESC;FMTTYPE=TEXT/HTML:Hallo liebe Eintopftreter*innen\, der nächste
  Stammtisch findet am Freitag\, 12.04.2024 ab 18:30 Uhr wie die letzten Ma
 le wieder im Wedding statt. Bis dahin eine schöne Zeit für euch. Liebe G
 rüße. Erich 😊🏍️🍀🌻 Hinweis: ihr könnt den Termin in euren 
 Kalender übernehmen\, indem ihr auf den untenstehenden Link ical oder Goo
 gle Kalender klickt.
CATEGORIES:Stammtisch
URL;VALUE=URI:https://eintopftreter.berlin/mc-events/stammtisch-im-april-20
 24/
METHOD:PUBLISH
END:VEVENT
END:VCALENDAR