BEGIN:VCALENDAR
VERSION:2.0
PRODID:spatie/icalendar-generator
DESCRIPTION:Veranstaltungen von Eintopftreter.Berlin
X-WR-CALDESC:Veranstaltungen von Eintopftreter.Berlin
REFRESH-INTERVAL;VALUE=DURATION:PT1440M
X-PUBLISHED-TTL:PT1440M
BEGIN:VTIMEZONE
TZID:Europe/Berlin
BEGIN:DAYLIGHT
DTSTART:20240331T020000Z
TZOFFSETFROM:+0100
TZOFFSETTO:+0200
END:DAYLIGHT
BEGIN:STANDARD
DTSTART:20241027T030000Z
TZOFFSETFROM:+0200
TZOFFSETTO:+0100
END:STANDARD
END:VTIMEZONE
BEGIN:VTIMEZONE
TZID:UTC
BEGIN:STANDARD
DTSTART:20250728T130515Z
TZOFFSETFROM:+0000
TZOFFSETTO:+0000
END:STANDARD
END:VTIMEZONE
BEGIN:VEVENT
UID:19-15
DTSTAMP:20260424T130515Z
SUMMARY:Treffen der IG Kassel 2024
LOCATION:Campingplatz Potzwenden Potzwenden 997  37136 Landolfshausen
ORGANIZER;CN=admin:MAILTO:webmaster@eintopfreter.berlin
DTSTART;TZID=Europe/Berlin;VALUE=DATE:20240830
DTEND;TZID=Europe/Berlin;VALUE=DATE:20240902
X-ALT-DESC;FMTTYPE=TEXT/HTML:
CATEGORIES:Ausfahrten
URL;VALUE=URI:https://eintopftreter.berlin/mc-events/treffen-der-ig-kassel-
 2024/
METHOD:PUBLISH
END:VEVENT
END:VCALENDAR