BEGIN:VCALENDAR
VERSION:2.0
PRODID:spatie/icalendar-generator
DESCRIPTION:Veranstaltungen von Eintopftreter.Berlin
X-WR-CALDESC:Veranstaltungen von Eintopftreter.Berlin
REFRESH-INTERVAL;VALUE=DURATION:PT1440M
X-PUBLISHED-TTL:PT1440M
BEGIN:VTIMEZONE
TZID:Europe/Berlin
BEGIN:STANDARD
DTSTART:20251026T030000Z
TZOFFSETFROM:+0200
TZOFFSETTO:+0100
END:STANDARD
BEGIN:DAYLIGHT
DTSTART:20260329T020000Z
TZOFFSETFROM:+0100
TZOFFSETTO:+0200
END:DAYLIGHT
BEGIN:STANDARD
DTSTART:20261025T030000Z
TZOFFSETFROM:+0200
TZOFFSETTO:+0100
END:STANDARD
END:VTIMEZONE
BEGIN:VTIMEZONE
TZID:UTC
BEGIN:STANDARD
DTSTART:20250728T160036Z
TZOFFSETFROM:+0000
TZOFFSETTO:+0000
END:STANDARD
END:VTIMEZONE
BEGIN:VEVENT
UID:182-90
DTSTAMP:20260424T160036Z
SUMMARY:Frühlings-Ride 2026 am So. 26.04.2026
LOCATION:Bakers Drive / Wiener Feinbäcker Heberer Ernst-Ruska-Ufer 27 Voll
 merstraße\, Bakers Drive Berlin  12489
ORGANIZER;CN=Erich Buecker:MAILTO:erich@eintopftreter.berlin
DTSTART;TZID=Europe/Berlin:20260426T103000
DTEND;TZID=Europe/Berlin:20260426T113000
X-ALT-DESC;FMTTYPE=TEXT/HTML:Veranstaltung der Motorradoldies Berlin-Brande
 nburg: 2026 Es ist soweit!Die Motorradoldies Berlin-Brandenburg starten wi
 eder die Motoren!Willkommen zu unserem „Frühlings-Ride!“ sind wie imm
 er Oldtimer (ü30)\, sowie Youngtimer (ü20) die individuell gestaltet sin
 d.Dazu zählen für uns Klassische Gespanne\, Café Racer\, Brat Style\, C
 hopper/Cruiser\, klassische Enduro\, Bobber\, Classic Scooter\, Street Tra
 cker\, Scrambler\, Classic Superbike\, Retrobikes.Also alles was nicht lan
 gweilig ist Alle&amp;hellip\;
CATEGORIES:Ausfahrten
URL;VALUE=URI:https://eintopftreter.berlin/mc-events/fruehlings-ride-2026-a
 m-so-26-04-2026/
METHOD:PUBLISH
END:VEVENT
END:VCALENDAR