BEGIN:VCALENDAR
VERSION:2.0
PRODID:spatie/icalendar-generator
DESCRIPTION:Veranstaltungen von Eintopftreter.Berlin
X-WR-CALDESC:Veranstaltungen von Eintopftreter.Berlin
REFRESH-INTERVAL;VALUE=DURATION:PT1440M
X-PUBLISHED-TTL:PT1440M
BEGIN:VTIMEZONE
TZID:Europe/Berlin
BEGIN:DAYLIGHT
DTSTART:20230326T020000Z
TZOFFSETFROM:+0100
TZOFFSETTO:+0200
END:DAYLIGHT
BEGIN:STANDARD
DTSTART:20231029T030000Z
TZOFFSETFROM:+0200
TZOFFSETTO:+0100
END:STANDARD
END:VTIMEZONE
BEGIN:VTIMEZONE
TZID:UTC
BEGIN:STANDARD
DTSTART:20250726T084403Z
TZOFFSETFROM:+0000
TZOFFSETTO:+0000
END:STANDARD
END:VTIMEZONE
BEGIN:VEVENT
UID:15-11
DTSTAMP:20260422T084403Z
SUMMARY:Ostsee-Treffen in Lübeck 2023
LOCATION:Bomos Borchardts Moped Shop Kiefernholz 2   23568 Lübeck
ORGANIZER;CN=admin:MAILTO:webmaster@eintopfreter.berlin
DTSTART;TZID=Europe/Berlin;VALUE=DATE:20230804
DTEND;TZID=Europe/Berlin;VALUE=DATE:20230807
X-ALT-DESC;FMTTYPE=TEXT/HTML:20 jähriges Jubiläum! Wie immer am ersten vo
 llen  Wochenende im August findet in Lübeck das Jubiläumstreffen der XT
  SR500 IG Lübeck statt. Wer mit hinfahren will\, kann sich mit Torsten in
  Verbindung setzen.
CATEGORIES:Ausfahrten
URL;VALUE=URI:https://eintopftreter.berlin/mc-events/ostsee-treffen-in-lueb
 eck-2023/
METHOD:PUBLISH
END:VEVENT
END:VCALENDAR