BEGIN:VCALENDAR
VERSION:2.0
PRODID:spatie/icalendar-generator
DESCRIPTION:Veranstaltungen von Eintopftreter.Berlin
X-WR-CALDESC:Veranstaltungen von Eintopftreter.Berlin
REFRESH-INTERVAL;VALUE=DURATION:PT1440M
X-PUBLISHED-TTL:PT1440M
BEGIN:VTIMEZONE
TZID:Europe/Berlin
BEGIN:STANDARD
DTSTART:20221030T030000Z
TZOFFSETFROM:+0200
TZOFFSETTO:+0100
END:STANDARD
BEGIN:DAYLIGHT
DTSTART:20230326T020000Z
TZOFFSETFROM:+0100
TZOFFSETTO:+0200
END:DAYLIGHT
BEGIN:STANDARD
DTSTART:20231029T030000Z
TZOFFSETFROM:+0200
TZOFFSETTO:+0100
END:STANDARD
END:VTIMEZONE
BEGIN:VTIMEZONE
TZID:UTC
BEGIN:STANDARD
DTSTART:20250728T130449Z
TZOFFSETFROM:+0000
TZOFFSETTO:+0000
END:STANDARD
END:VTIMEZONE
BEGIN:VEVENT
UID:14-10
DTSTAMP:20260424T130449Z
SUMMARY:45 Jahre SR 500 Party 2023
LOCATION:CVJM-Feriendorf Herbstein Ernst-Klotz-Weg 1  36358 Herbstein
ORGANIZER;CN=admin:MAILTO:webmaster@eintopfreter.berlin
DTSTART;TZID=Europe/Berlin;VALUE=DATE:20230623
DTEND;TZID=Europe/Berlin;VALUE=DATE:20230626
X-ALT-DESC;FMTTYPE=TEXT/HTML:Programm • Lockeres Eintrudeln am Freitag ab
  15 Uhr • Am Samstag abfeiern • Am Sonntag ist um 12 Uhr Feierabend Le
 ute\, die zusammen dort hinfahren wollen\, melden sich am besten bei Torst
 en. &amp;gt\;&amp;gt\;&amp;gt\;Flyer Download     &amp;gt\;&amp;gt\;&amp;gt\;Link zum SR 500 Fo
 rum
CATEGORIES:Ausfahrten
URL;VALUE=URI:https://eintopftreter.berlin/mc-events/45-jahre-sr-500-party-
 2023/
METHOD:PUBLISH
END:VEVENT
END:VCALENDAR