BEGIN:VCALENDAR
VERSION:2.0
PRODID:spatie/icalendar-generator
DESCRIPTION:Veranstaltungen von Eintopftreter.Berlin
X-WR-CALDESC:Veranstaltungen von Eintopftreter.Berlin
REFRESH-INTERVAL;VALUE=DURATION:PT1440M
X-PUBLISHED-TTL:PT1440M
BEGIN:VTIMEZONE
TZID:Europe/Berlin
BEGIN:DAYLIGHT
DTSTART:20230326T020000Z
TZOFFSETFROM:+0100
TZOFFSETTO:+0200
END:DAYLIGHT
BEGIN:STANDARD
DTSTART:20231029T030000Z
TZOFFSETFROM:+0200
TZOFFSETTO:+0100
END:STANDARD
BEGIN:DAYLIGHT
DTSTART:20240331T020000Z
TZOFFSETFROM:+0100
TZOFFSETTO:+0200
END:DAYLIGHT
END:VTIMEZONE
BEGIN:VTIMEZONE
TZID:UTC
BEGIN:STANDARD
DTSTART:20250728T130455Z
TZOFFSETFROM:+0000
TZOFFSETTO:+0000
END:STANDARD
END:VTIMEZONE
BEGIN:VEVENT
UID:13-9
DTSTAMP:20260424T130455Z
SUMMARY:Christmas Bike Tour Berlin 2023
LOCATION:
ORGANIZER;CN=admin:MAILTO:webmaster@eintopfreter.berlin
DTSTART;TZID=Europe/Berlin:20231215T150000
DTEND;TZID=Europe/Berlin:20231215T220000
X-ALT-DESC;FMTTYPE=TEXT/HTML:&amp;nbsp\; Siehe auch https://www.berlin-christma
 s-biketour.de/ Die diesjährige Christmas Bike Tour war wieder eine ganz t
 olle Veranstaltung\, über 300 geschmückte Bikes und massig viele Zuschau
 er. Aber seht selbst : https://www.youtube.com/watch?v=H6HJV29Z0yw
CATEGORIES:Ausfahrten
URL;VALUE=URI:https://eintopftreter.berlin/mc-events/christmas-bike-tour-be
 rlin-2023/
METHOD:PUBLISH
END:VEVENT
END:VCALENDAR