BEGIN:VCALENDAR
VERSION:2.0
PRODID:spatie/icalendar-generator
DESCRIPTION:Veranstaltungen von Eintopftreter.Berlin
X-WR-CALDESC:Veranstaltungen von Eintopftreter.Berlin
REFRESH-INTERVAL;VALUE=DURATION:PT1440M
X-PUBLISHED-TTL:PT1440M
BEGIN:VTIMEZONE
TZID:Europe/Berlin
BEGIN:DAYLIGHT
DTSTART:20250330T020000Z
TZOFFSETFROM:+0100
TZOFFSETTO:+0200
END:DAYLIGHT
BEGIN:STANDARD
DTSTART:20251026T030000Z
TZOFFSETFROM:+0200
TZOFFSETTO:+0100
END:STANDARD
END:VTIMEZONE
BEGIN:VTIMEZONE
TZID:UTC
BEGIN:STANDARD
DTSTART:20250728T143042Z
TZOFFSETFROM:+0000
TZOFFSETTO:+0000
END:STANDARD
END:VTIMEZONE
BEGIN:VEVENT
UID:105-71
DTSTAMP:20260424T143042Z
SUMMARY:Ausfahrt nach Wünsdorf
LOCATION:Garnisonsmuseum Wünsdorf Gutenbergstraße 9  15806 Zossen OT Wün
 sdorf
ORGANIZER;CN=admin:MAILTO:webmaster@eintopfreter.berlin
DTSTART;TZID=Europe/Berlin:20250823T100000
DTEND;TZID=Europe/Berlin:20250823T235900
X-ALT-DESC;FMTTYPE=TEXT/HTML:nachdem Tommy in unserem WhatAppChat angekünd
 igt hat\, dass er mit seiner Band in Wünsdorf auftritt\,  schrieb Torste
 n: Das wäre doch mal ein Ziel für 'ne gemeinsame Ausfahrt! Wer mag: Sams
 tag\, 23. August 2025 Treffpunkt Spinnerbrücke ab 10:00 Abfahrt 10:30 / m
 it vollem Tank :-) ca. 1h gemütlich über Land und dabei geht’s nicht u
 m rechts/links\,&amp;hellip\;
CATEGORIES:Ausfahrten
URL;VALUE=URI:https://eintopftreter.berlin/mc-events/ausfahrt-nach-wuensdor
 f/
METHOD:PUBLISH
END:VEVENT
END:VCALENDAR