BEGIN:VCALENDAR
VERSION:2.0
PRODID:spatie/icalendar-generator
DESCRIPTION:Veranstaltungen von Eintopftreter.Berlin
X-WR-CALDESC:Veranstaltungen von Eintopftreter.Berlin
REFRESH-INTERVAL;VALUE=DURATION:PT1440M
X-PUBLISHED-TTL:PT1440M
BEGIN:VTIMEZONE
TZID:Europe/Berlin
BEGIN:STANDARD
DTSTART:20241027T030000Z
TZOFFSETFROM:+0200
TZOFFSETTO:+0100
END:STANDARD
BEGIN:DAYLIGHT
DTSTART:20250330T020000Z
TZOFFSETFROM:+0100
TZOFFSETTO:+0200
END:DAYLIGHT
BEGIN:STANDARD
DTSTART:20251026T030000Z
TZOFFSETFROM:+0200
TZOFFSETTO:+0100
END:STANDARD
END:VTIMEZONE
BEGIN:VTIMEZONE
TZID:UTC
BEGIN:STANDARD
DTSTART:20250728T144216Z
TZOFFSETFROM:+0000
TZOFFSETTO:+0000
END:STANDARD
END:VTIMEZONE
BEGIN:VEVENT
UID:91-66
DTSTAMP:20260424T144216Z
SUMMARY:Ausfahrt zum Built not Bought 2025
LOCATION:Spreewaldring Waldhaus 2  15910 Schönwald OT Waldow
ORGANIZER;CN=admin:MAILTO:webmaster@eintopfreter.berlin
DTSTART;TZID=Europe/Berlin:20250608T110000
DTEND;TZID=Europe/Berlin:20250608T170000
X-ALT-DESC;FMTTYPE=TEXT/HTML:&amp;nbsp\; Ausfahrt zum Built not Bought am Spree
 waldring Sonntag\, 08.06.2025 / Abfahrt 11:00 Uhr Treffpunkt ist der groß
 e Parkplatz am Innsbrucker Platz an der S-Bahn Das Motorrad-Festival in Br
 andenburg Das BnB -Team freut sich darauf\, gemeinsam mit Euch die 11. Auf
 lage des Built not Bought auf die Beine zu stellen. Rennsportfans und Moto
 rrad-Liebhaber treffen sich&amp;hellip\;
CATEGORIES:Ausfahrten
URL;VALUE=URI:https://eintopftreter.berlin/mc-events/ausfahrt-zum-built-not
 -bought-2025/
METHOD:PUBLISH
END:VEVENT
END:VCALENDAR