BEGIN:VCALENDAR
VERSION:2.0
PRODID:spatie/icalendar-generator
DESCRIPTION:Veranstaltungen von Eintopftreter.Berlin
X-WR-CALDESC:Veranstaltungen von Eintopftreter.Berlin
REFRESH-INTERVAL;VALUE=DURATION:PT1440M
X-PUBLISHED-TTL:PT1440M
BEGIN:VTIMEZONE
TZID:Europe/Berlin
BEGIN:DAYLIGHT
DTSTART:20240331T020000Z
TZOFFSETFROM:+0100
TZOFFSETTO:+0200
END:DAYLIGHT
BEGIN:STANDARD
DTSTART:20241027T030000Z
TZOFFSETFROM:+0200
TZOFFSETTO:+0100
END:STANDARD
BEGIN:DAYLIGHT
DTSTART:20250330T020000Z
TZOFFSETFROM:+0100
TZOFFSETTO:+0200
END:DAYLIGHT
END:VTIMEZONE
BEGIN:VTIMEZONE
TZID:UTC
BEGIN:STANDARD
DTSTART:20250728T155322Z
TZOFFSETFROM:+0000
TZOFFSETTO:+0000
END:STANDARD
END:VTIMEZONE
BEGIN:VEVENT
UID:7-5
DTSTAMP:20260424T155322Z
SUMMARY:Twins meet Classic II 2024
LOCATION:Driving Center Groß Dölln Zum Flugplatz (Shelter 3)  17268 Templ
 in / Ortsteil Groß Dölln
ORGANIZER;CN=admin:MAILTO:webmaster@eintopfreter.berlin
DTSTART;TZID=Europe/Berlin;VALUE=DATE:20241005
DTEND;TZID=Europe/Berlin;VALUE=DATE:20241007
X-ALT-DESC;FMTTYPE=TEXT/HTML:Das zweite TMC findet in Groß Dölln auf dem 
 Driving Center als TmC II statt. Es sind Twins und klassische Motorräder 
 und Seitenwagen bei der Veranstaltung zugelassen. Anmeldung über Race Caf
 e Berlin
CATEGORIES:Veranstaltung
URL;VALUE=URI:https://eintopftreter.berlin/mc-events/twins-meet-classic-ii-
 2024/
METHOD:PUBLISH
END:VEVENT
END:VCALENDAR