BEGIN:VCALENDAR
VERSION:2.0
PRODID:spatie/icalendar-generator
DESCRIPTION:Veranstaltungen von Eintopftreter.Berlin
X-WR-CALDESC:Veranstaltungen von Eintopftreter.Berlin
REFRESH-INTERVAL;VALUE=DURATION:PT1440M
X-PUBLISHED-TTL:PT1440M
BEGIN:VTIMEZONE
TZID:Europe/Berlin
BEGIN:DAYLIGHT
DTSTART:20250330T020000Z
TZOFFSETFROM:+0100
TZOFFSETTO:+0200
END:DAYLIGHT
BEGIN:STANDARD
DTSTART:20251026T030000Z
TZOFFSETFROM:+0200
TZOFFSETTO:+0100
END:STANDARD
END:VTIMEZONE
BEGIN:VTIMEZONE
TZID:UTC
BEGIN:STANDARD
DTSTART:20250728T143858Z
TZOFFSETFROM:+0000
TZOFFSETTO:+0000
END:STANDARD
END:VTIMEZONE
BEGIN:VEVENT
UID:64-47
DTSTAMP:20260424T143858Z
SUMMARY:Oldies Only 2025
LOCATION:Spreewaldring Waldhaus 2  15910 Schönwald OT Waldow
ORGANIZER;CN=admin:MAILTO:webmaster@eintopfreter.berlin
DTSTART;TZID=Europe/Berlin;VALUE=DATE:20250816
DTEND;TZID=Europe/Berlin;VALUE=DATE:20250818
X-ALT-DESC;FMTTYPE=TEXT/HTML:MACHEN\, WAS GEHT - SOLANGE ES GEHT! Mit nette
 n Menschen auf interessantem Altmetall spannende Strecken genießen - daru
 m geht es bei den Veranstaltungen von Oldies Only. Bei diesen Trainings-\,
  Prüf- und Einstellfahrten für Fahrer klassischer Motorräder stehen der
  gemeinsame Spaß und größtmögliche Sicherheit im Vordergrund. Auf Stre
 ss\, Hektik und Hardcore-Racing wird verzichtet. Ob Rennstrecken-Neuling o
 der&amp;hellip\;
CATEGORIES:Veranstaltung
URL;VALUE=URI:https://eintopftreter.berlin/mc-events/oldies-only-2025/
METHOD:PUBLISH
END:VEVENT
END:VCALENDAR