BEGIN:VCALENDAR
VERSION:2.0
PRODID:spatie/icalendar-generator
DESCRIPTION:Veranstaltungen von Eintopftreter.Berlin
X-WR-CALDESC:Veranstaltungen von Eintopftreter.Berlin
REFRESH-INTERVAL;VALUE=DURATION:PT1440M
X-PUBLISHED-TTL:PT1440M
BEGIN:VTIMEZONE
TZID:Europe/Berlin
BEGIN:STANDARD
DTSTART:20241027T030000Z
TZOFFSETFROM:+0200
TZOFFSETTO:+0100
END:STANDARD
BEGIN:DAYLIGHT
DTSTART:20250330T020000Z
TZOFFSETFROM:+0100
TZOFFSETTO:+0200
END:DAYLIGHT
BEGIN:STANDARD
DTSTART:20251026T030000Z
TZOFFSETFROM:+0200
TZOFFSETTO:+0100
END:STANDARD
END:VTIMEZONE
BEGIN:VTIMEZONE
TZID:UTC
BEGIN:STANDARD
DTSTART:20250725T083723Z
TZOFFSETFROM:+0000
TZOFFSETTO:+0000
END:STANDARD
END:VTIMEZONE
BEGIN:VEVENT
UID:62-45
DTSTAMP:20260421T083723Z
SUMMARY:Twins meet Classics I 2025
LOCATION:Spreewaldring Waldhaus 2  15910 Schönwald OT Waldow
ORGANIZER;CN=admin:MAILTO:webmaster@eintopfreter.berlin
DTSTART;TZID=Europe/Berlin;VALUE=DATE:20250609
DTEND;TZID=Europe/Berlin;VALUE=DATE:20250611
X-ALT-DESC;FMTTYPE=TEXT/HTML:Twins meet Classics I richtet sich an Hobbyrac
 er mit Zweizylindern und Klassikern. Zwei volle Tage wird in entspannter A
 tmosphäre am Kabel gezogen. Dabei hat sich der enge Kurs des Spreewaldrin
 gs als ideales Terrain für das Altmetall etabliert. Anmeldung über Race 
 Cafe Berlin
CATEGORIES:Veranstaltung
URL;VALUE=URI:https://eintopftreter.berlin/mc-events/twins-meet-classics-i-
 2025/
METHOD:PUBLISH
END:VEVENT
END:VCALENDAR