BEGIN:VCALENDAR
VERSION:2.0
PRODID:spatie/icalendar-generator
DESCRIPTION:Veranstaltungen von Eintopftreter.Berlin
X-WR-CALDESC:Veranstaltungen von Eintopftreter.Berlin
REFRESH-INTERVAL;VALUE=DURATION:PT1440M
X-PUBLISHED-TTL:PT1440M
BEGIN:VTIMEZONE
TZID:Europe/Berlin
BEGIN:STANDARD
DTSTART:20231029T030000Z
TZOFFSETFROM:+0200
TZOFFSETTO:+0100
END:STANDARD
BEGIN:DAYLIGHT
DTSTART:20240331T020000Z
TZOFFSETFROM:+0100
TZOFFSETTO:+0200
END:DAYLIGHT
END:VTIMEZONE
BEGIN:VTIMEZONE
TZID:UTC
BEGIN:STANDARD
DTSTART:20250728T130858Z
TZOFFSETFROM:+0000
TZOFFSETTO:+0000
END:STANDARD
END:VTIMEZONE
BEGIN:VEVENT
UID:4-3
DTSTAMP:20260424T130858Z
SUMMARY:Stammtisch im Februar 2024
LOCATION:Restaurant Bella Italia Brunnenstraße 104  13355 Berlin
ORGANIZER;CN=Erich Buecker:MAILTO:erich@eintopftreter.berlin
DTSTART;TZID=Europe/Berlin:20240210T193000
DTEND;TZID=Europe/Berlin:20240210T235900
X-ALT-DESC;FMTTYPE=TEXT/HTML:Hallo liebe Eintopftreter*innen\, der nächste
  Stammtisch findet wie oben angegeben am Samstag\, 10.02.2024 ab 19:30 Uhr
  (ausnahmsweise 1 Std. später als gewöhnlich) und wieder im Wedding Näh
 e Bhf. Gesundbrunnen. Bis dahin eine schöne Zeit für euch. Liebe Grüße
 . Erich 😊🏍️🍀🌻
CATEGORIES:Stammtisch
URL;VALUE=URI:https://eintopftreter.berlin/mc-events/stammtisch-im-februar-
 2024/
METHOD:PUBLISH
END:VEVENT
END:VCALENDAR