BEGIN:VCALENDAR
VERSION:2.0
PRODID:spatie/icalendar-generator
DESCRIPTION:Veranstaltungen von Eintopftreter.Berlin
X-WR-CALDESC:Veranstaltungen von Eintopftreter.Berlin
REFRESH-INTERVAL;VALUE=DURATION:PT1440M
X-PUBLISHED-TTL:PT1440M
BEGIN:VTIMEZONE
TZID:Europe/Berlin
BEGIN:STANDARD
DTSTART:20251026T030000Z
TZOFFSETFROM:+0200
TZOFFSETTO:+0100
END:STANDARD
BEGIN:DAYLIGHT
DTSTART:20260329T020000Z
TZOFFSETFROM:+0100
TZOFFSETTO:+0200
END:DAYLIGHT
BEGIN:STANDARD
DTSTART:20261025T030000Z
TZOFFSETFROM:+0200
TZOFFSETTO:+0100
END:STANDARD
END:VTIMEZONE
BEGIN:VTIMEZONE
TZID:UTC
BEGIN:STANDARD
DTSTART:20250728T172422Z
TZOFFSETFROM:+0000
TZOFFSETTO:+0000
END:STANDARD
END:VTIMEZONE
BEGIN:VEVENT
UID:183-81
DTSTAMP:20260424T172422Z
SUMMARY:Stammtisch im Mai 2026
LOCATION:Spinnerbrücke Spanische Allee 180  Berlin  14129
ORGANIZER;CN=Erich Buecker:MAILTO:erich@eintopftreter.berlin
DTSTART;TZID=Europe/Berlin:20260506T173000
DTEND;TZID=Europe/Berlin:20260506T235900
X-ALT-DESC;FMTTYPE=TEXT/HTML:Hallo liebe Eintopftreterinnen und Eintopftret
 er\, der nächste Stammtisch findet statt am: Mittwoch\, 06.05.2026 ab 17:
 30 Uhr AVUS-Treff Spinner-Brücke Spanische Allee 180 14129 Berlin Bis dah
 in eine schöne Zeit für euch. Liebe Grüße. Erich 😊🏍️🍀🌻 H
 inweis: ihr könnt den Termin in euren Kalender übernehmen\, indem ihr au
 f den untenstehenden Link ical oder Google Kalender klickt.
CATEGORIES:Stammtisch
URL;VALUE=URI:https://eintopftreter.berlin/mc-events/stammtisch-im-mai-2026
 /
METHOD:PUBLISH
END:VEVENT
END:VCALENDAR