BEGIN:VCALENDAR
VERSION:2.0
PRODID:spatie/icalendar-generator
DESCRIPTION:Veranstaltungen von Eintopftreter.Berlin
X-WR-CALDESC:Veranstaltungen von Eintopftreter.Berlin
REFRESH-INTERVAL;VALUE=DURATION:PT1440M
X-PUBLISHED-TTL:PT1440M
BEGIN:VTIMEZONE
TZID:Europe/Berlin
BEGIN:STANDARD
DTSTART:20231029T030000Z
TZOFFSETFROM:+0200
TZOFFSETTO:+0100
END:STANDARD
BEGIN:DAYLIGHT
DTSTART:20240331T020000Z
TZOFFSETFROM:+0100
TZOFFSETTO:+0200
END:DAYLIGHT
END:VTIMEZONE
BEGIN:VTIMEZONE
TZID:UTC
BEGIN:STANDARD
DTSTART:20250728T130941Z
TZOFFSETFROM:+0000
TZOFFSETTO:+0000
END:STANDARD
END:VTIMEZONE
BEGIN:VEVENT
UID:11-8
DTSTAMP:20260424T130941Z
SUMMARY:Stammtisch im März 2024
LOCATION:Restaurant Bella Italia Brunnenstraße 104  13355 Berlin
ORGANIZER;CN=Erich Buecker:MAILTO:erich@eintopftreter.berlin
DTSTART;TZID=Europe/Berlin:20240307T183000
DTEND;TZID=Europe/Berlin:20240307T235900
X-ALT-DESC;FMTTYPE=TEXT/HTML:Hallo liebe Eintopftreter*innen\, der nächste
  Stammtisch findet am Donnerstag\, 07.03.2024 ab 18:30 Uhr (Am Freitag ist
  Feiertag in Berlin: Internationaler Frauentag) wie die letzten Male im We
 dding statt. Bis dahin eine schöne Zeit für euch. Liebe Grüße. Erich 
 😊🏍️🍀🌻 Hinweis: ihr könnt den Termin in euren Kalender über
 nehmen\, indem ihr auf den untenstehenden Link ical&amp;hellip\;
CATEGORIES:Stammtisch
URL;VALUE=URI:https://eintopftreter.berlin/mc-events/stammtisch-im-maerz-20
 24/
METHOD:PUBLISH
END:VEVENT
END:VCALENDAR